BEGIN:VCALENDAR
VERSION:2.0
PRODID:-//Oxtongue Lake - ECPv6.14.2//NONSGML v1.0//EN
CALSCALE:GREGORIAN
METHOD:PUBLISH
X-ORIGINAL-URL:https://www.oxtonguelake.ca
X-WR-CALDESC:Events for Oxtongue Lake
REFRESH-INTERVAL;VALUE=DURATION:PT1H
X-Robots-Tag:noindex
X-PUBLISHED-TTL:PT1H
BEGIN:VTIMEZONE
TZID:America/Toronto
BEGIN:DAYLIGHT
TZOFFSETFROM:-0500
TZOFFSETTO:-0400
TZNAME:EDT
DTSTART:20150308T070000
END:DAYLIGHT
BEGIN:STANDARD
TZOFFSETFROM:-0400
TZOFFSETTO:-0500
TZNAME:EST
DTSTART:20151101T060000
END:STANDARD
BEGIN:DAYLIGHT
TZOFFSETFROM:-0500
TZOFFSETTO:-0400
TZNAME:EDT
DTSTART:20160313T070000
END:DAYLIGHT
BEGIN:STANDARD
TZOFFSETFROM:-0400
TZOFFSETTO:-0500
TZNAME:EST
DTSTART:20161106T060000
END:STANDARD
END:VTIMEZONE
BEGIN:VEVENT
DTSTART;TZID=America/Toronto:20160805T090000
DTEND;TZID=America/Toronto:20160805T110000
DTSTAMP:20260423T094324
CREATED:20150429T170950Z
LAST-MODIFIED:20160514T160444Z
UID:16335-1470387600-1470394800@www.oxtonguelake.ca
SUMMARY:2016 AGM of the Oxtongue Lake Association (OLA)
DESCRIPTION:Please join us for an AGM coffee & muffin morning (meeting will begin at 9:30).   Not only will it keep you informed on the latest issues\, but help you to meet fellow members and committee chairs. \nWe also encourage you to RSVP below if you think you will be able to attend.
URL:https://www.oxtonguelake.ca/event/copy-of-agm-of-the-oxtongue-lake-association-ola/
LOCATION:Oxtongue Lake Community Centre\, 3987 Highway 60\, Dwight\, ON\, P0A 1H0\, Canada
CATEGORIES:OLA
ORGANIZER;CN="OLA":MAILTO:ola@oxtonguelake.com
END:VEVENT
BEGIN:VEVENT
DTSTART;TZID=America/Toronto:20160803T190000
DTEND;TZID=America/Toronto:20160803T210000
DTSTAMP:20260423T094324
CREATED:20150429T165515Z
LAST-MODIFIED:20160729T150217Z
UID:16338-1470250800-1470258000@www.oxtonguelake.ca
SUMMARY:Movie Night - Zootopia
DESCRIPTION:This night is co-sponsored between the OLCCC and OLA. \nMovie: TBD \nAdmission is by donation and the popcorn is free! Treats & beverages will be available to purchase. Hosted by the Oxtongue Lake Community Centre Committee & friends. All proceeds to Community Centre betterment. \nJust show up!  But if you already know you plan to come\, please RSVP below.
URL:https://www.oxtonguelake.ca/event/copy-of-movie-night-tbd/
LOCATION:Oxtongue Lake Community Centre\, 3987 Highway 60\, Dwight\, ON\, P0A 1H0\, Canada
CATEGORIES:OLA,OLCCC
ORGANIZER;CN="OLCCC":MAILTO:drc@algonquinhighlands.ca
END:VEVENT
BEGIN:VEVENT
DTSTART;TZID=America/Toronto:20160731T130000
DTEND;TZID=America/Toronto:20160731T170000
DTSTAMP:20260423T094324
CREATED:20150218T130441Z
LAST-MODIFIED:20160514T160536Z
UID:16336-1469970000-1469984400@www.oxtonguelake.ca
SUMMARY:Regatta 2016
DESCRIPTION:Come on out to enjoy another fun filled day at the beaches of Oxtongue Lake Cottages!  Updated information will follow soon. \nIn the meantime be sure to check out this general page about the Regatta.
URL:https://www.oxtonguelake.ca/event/regatta-2016/
LOCATION:Oxtongue Lake Cottages\, 4019 Hwy 60\, Oxtongue Lake\, ON\, P0A 1H0\, Canada
CATEGORIES:Regatta
ORGANIZER;CN="OLA":MAILTO:ola@oxtonguelake.com
END:VEVENT
BEGIN:VEVENT
DTSTART;TZID=America/Toronto:20160720T190000
DTEND;TZID=America/Toronto:20160720T210000
DTSTAMP:20260423T094324
CREATED:20150429T165515Z
LAST-MODIFIED:20160514T161454Z
UID:16341-1469041200-1469048400@www.oxtonguelake.ca
SUMMARY:Movie Night - TBD
DESCRIPTION:This night is co-sponsored between the OLCCC and HOLD (Hillside\, Oxtongue Lake\, Dwight) \nMovie: TBD \nAdmission is by donation and the popcorn is free! Treats & beverages will be available to purchase. Hosted by the Oxtongue Lake Community Centre Committee & friends. All proceeds to Community Centre betterment. \nJust show up!  But if you already know you plan to come\, please RSVP below.
URL:https://www.oxtonguelake.ca/event/movie-night-tbd/
LOCATION:Oxtongue Lake Community Centre\, 3987 Highway 60\, Dwight\, ON\, P0A 1H0\, Canada
CATEGORIES:OLA,OLCCC
ORGANIZER;CN="OLCCC":MAILTO:drc@algonquinhighlands.ca
END:VEVENT
BEGIN:VEVENT
DTSTART;TZID=America/Toronto:20150812T190000
DTEND;TZID=America/Toronto:20150812T210000
DTSTAMP:20260423T094324
CREATED:20150429T165515Z
LAST-MODIFIED:20150810T180925Z
UID:14623-1439406000-1439413200@www.oxtonguelake.ca
SUMMARY:Movie Night - Home
DESCRIPTION:This night is co-sponsored between the OLCCC and OLA. \nMovie: Home \nPopcorn\, snacks and refreshments will be available. \nJust show up!  But if you already know you plan to come\, please RSVP below.
URL:https://www.oxtonguelake.ca/event/double-feature-movie-night/
LOCATION:Oxtongue Lake Community Centre\, 3987 Highway 60\, Dwight\, ON\, P0A 1H0\, Canada
CATEGORIES:OLA,OLCCC
ORGANIZER;CN="OLCCC":MAILTO:drc@algonquinhighlands.ca
END:VEVENT
BEGIN:VEVENT
DTSTART;TZID=America/Toronto:20150807T090000
DTEND;TZID=America/Toronto:20150807T110000
DTSTAMP:20260423T094324
CREATED:20150429T170950Z
LAST-MODIFIED:20150520T231038Z
UID:14624-1438938000-1438945200@www.oxtonguelake.ca
SUMMARY:AGM of the Oxtongue Lake Association (OLA)
DESCRIPTION:Please join us for an AGM coffee & muffin morning.   Not only will it keep you informed on the latest issues\, but help you to meet fellow members and committee chairs. \nWe also encourage you to RSVP below if you think you will be able to attend.
URL:https://www.oxtonguelake.ca/event/agm-of-the-oxtongue-lake-association-ola/
LOCATION:Oxtongue Lake Community Centre\, 3987 Highway 60\, Dwight\, ON\, P0A 1H0\, Canada
CATEGORIES:OLA
ORGANIZER;CN="OLA":MAILTO:ola@oxtonguelake.com
END:VEVENT
BEGIN:VEVENT
DTSTART;TZID=America/Toronto:20150802T130000
DTEND;TZID=America/Toronto:20150802T170000
DTSTAMP:20260423T094324
CREATED:20150218T130441Z
LAST-MODIFIED:20150709T025952Z
UID:12698-1438520400-1438534800@www.oxtonguelake.ca
SUMMARY:Regatta 2015
DESCRIPTION:Come on out to enjoy another fun filled day at the beaches of Oxtongue Lake Cottages and White Birches Cottage Resort!  Our commodore this year is Guiseppe (Joe) Spagnolo and a list of events will be included soon. \nIn the meantime be sure to check out this general page about the Regatta.
URL:https://www.oxtonguelake.ca/event/regatta-2015/
LOCATION:Oxtongue Lake Cottages\, 4019 Hwy 60\, Oxtongue Lake\, ON\, P0A 1H0\, Canada
CATEGORIES:Regatta
END:VEVENT
BEGIN:VEVENT
DTSTART;TZID=America/Toronto:20150611T110000
DTEND;TZID=America/Toronto:20150611T120000
DTSTAMP:20260423T094324
CREATED:20150520T231911Z
LAST-MODIFIED:20150528T190221Z
UID:14690-1434020400-1434024000@www.oxtonguelake.ca
SUMMARY:Meet our OPP Detachment Co-Ordinator
DESCRIPTION:Come meet Staff Sergeant John-Paul Graham at the Oxtongue Lake Community Centre.  It’s a great opportunity to learn about Cottage Watch and how the OPP is going to foster a better working relationship with the community. \nJust show up!  But if you already know you plan to come\, please RSVP below.
URL:https://www.oxtonguelake.ca/event/meet-our-opp-detachment-co-ordinator/
LOCATION:Oxtongue Lake Community Centre\, 3987 Highway 60\, Dwight\, ON\, P0A 1H0\, Canada
CATEGORIES:Cottage Watch
END:VEVENT
END:VCALENDAR