BEGIN:VCALENDAR
VERSION:2.0
PRODID:-//Oxtongue Lake - ECPv6.14.2//NONSGML v1.0//EN
CALSCALE:GREGORIAN
METHOD:PUBLISH
X-ORIGINAL-URL:https://www.oxtonguelake.ca
X-WR-CALDESC:Events for Oxtongue Lake
REFRESH-INTERVAL;VALUE=DURATION:PT1H
X-Robots-Tag:noindex
X-PUBLISHED-TTL:PT1H
BEGIN:VTIMEZONE
TZID:America/Toronto
BEGIN:DAYLIGHT
TZOFFSETFROM:-0500
TZOFFSETTO:-0400
TZNAME:EDT
DTSTART:20150308T070000
END:DAYLIGHT
BEGIN:STANDARD
TZOFFSETFROM:-0400
TZOFFSETTO:-0500
TZNAME:EST
DTSTART:20151101T060000
END:STANDARD
BEGIN:DAYLIGHT
TZOFFSETFROM:-0500
TZOFFSETTO:-0400
TZNAME:EDT
DTSTART:20160313T070000
END:DAYLIGHT
BEGIN:STANDARD
TZOFFSETFROM:-0400
TZOFFSETTO:-0500
TZNAME:EST
DTSTART:20161106T060000
END:STANDARD
END:VTIMEZONE
BEGIN:VEVENT
DTSTART;TZID=America/Toronto:20160218T150000
DTEND;TZID=America/Toronto:20160218T160000
DTSTAMP:20260423T105703
CREATED:20160215T231522Z
LAST-MODIFIED:20160216T225543Z
UID:16259-1455807600-1455811200@www.oxtonguelake.ca
SUMMARY:Tai Chi/Chi Kung Exercise Classes
DESCRIPTION:Tai Chi/Chi Kung Exercise Classes to be held at the Oxtongue Lake Community Centre.  The classes are part of the Algonquin Highlands Council Recreation Programs and are only $2 per class.  They are to be held on Thursdays\, 3 to 4 pm for 12 weeks starting February 18 to May 5\, 2016.   Registration required as space is limited.  For more information\, or to register\, please call Algonquin Highlands Recreation 705-766-0068 or email – recreation@algonquinhighlands.ca
URL:https://www.oxtonguelake.ca/event/tai-chichi-kung-exercise-classes/
LOCATION:Oxtongue Lake Community Centre\, 3987 Highway 60\, Dwight\, ON\, P0A 1H0\, Canada
CATEGORIES:OLCCC
ORGANIZER;CN="OLCCC":MAILTO:drc@algonquinhighlands.ca
END:VEVENT
BEGIN:VEVENT
DTSTART;TZID=America/Toronto:20151204T173000
DTEND;TZID=America/Toronto:20151204T190000
DTSTAMP:20260423T105703
CREATED:20151110T212440Z
LAST-MODIFIED:20151110T212440Z
UID:16208-1449250200-1449255600@www.oxtonguelake.ca
SUMMARY:Oxtongue Lake Community Christmas Tree Lighting
DESCRIPTION:Join in the fun for the 3rd Annual Oxtongue Lake Community Christmas Tree Lighting with a special guest tree lighter\, caroling\, hot chocolate\, hot apple cider & snacks followed by warm up and social time in the community centre. All Welcome! Contact Marlene at 705-635-9816 for more information.
URL:https://www.oxtonguelake.ca/event/oxtongue-lake-community-christmas-tree-lighting/
LOCATION:Oxtongue Lake Community Centre\, 3987 Highway 60\, Dwight\, ON\, P0A 1H0\, Canada
CATEGORIES:OLCCC
ORGANIZER;CN="OLCCC":MAILTO:drc@algonquinhighlands.ca
END:VEVENT
BEGIN:VEVENT
DTSTART;TZID=America/Toronto:20150826T190000
DTEND;TZID=America/Toronto:20150826T210000
DTSTAMP:20260423T105703
CREATED:20150525T180754Z
LAST-MODIFIED:20150709T015805Z
UID:14709-1440615600-1440622800@www.oxtonguelake.ca
SUMMARY:Speaker Series - Bob Hilscher (Movie)
DESCRIPTION:OLCCC Speaker Series \nSpeaker: Bob Hilscher \nTopic: Movie/lecture \nJust show up!  But if you already know you plan to come\, please RSVP below.
URL:https://www.oxtonguelake.ca/event/speaker-series-bob-hilscher/
LOCATION:Oxtongue Lake Community Centre\, 3987 Highway 60\, Dwight\, ON\, P0A 1H0\, Canada
CATEGORIES:OLCCC
ORGANIZER;CN="OLCCC":MAILTO:drc@algonquinhighlands.ca
END:VEVENT
BEGIN:VEVENT
DTSTART;TZID=America/Toronto:20150819T190000
DTEND;TZID=America/Toronto:20150819T210000
DTSTAMP:20260423T105703
CREATED:20150525T181143Z
LAST-MODIFIED:20150617T235422Z
UID:14711-1440010800-1440018000@www.oxtonguelake.ca
SUMMARY:Movie Night - Frozen
DESCRIPTION:OLCCC Movie Night \nMovie: Frozen \nJust show up!  But if you already know you plan to come\, please RSVP below.
URL:https://www.oxtonguelake.ca/event/movie-night-frozen/
LOCATION:Oxtongue Lake Community Centre\, 3987 Highway 60\, Dwight\, ON\, P0A 1H0\, Canada
CATEGORIES:OLCCC
ORGANIZER;CN="OLCCC":MAILTO:drc@algonquinhighlands.ca
END:VEVENT
BEGIN:VEVENT
DTSTART;TZID=America/Toronto:20150812T190000
DTEND;TZID=America/Toronto:20150812T210000
DTSTAMP:20260423T105703
CREATED:20150429T165515Z
LAST-MODIFIED:20150810T180925Z
UID:14623-1439406000-1439413200@www.oxtonguelake.ca
SUMMARY:Movie Night - Home
DESCRIPTION:This night is co-sponsored between the OLCCC and OLA. \nMovie: Home \nPopcorn\, snacks and refreshments will be available. \nJust show up!  But if you already know you plan to come\, please RSVP below.
URL:https://www.oxtonguelake.ca/event/double-feature-movie-night/
LOCATION:Oxtongue Lake Community Centre\, 3987 Highway 60\, Dwight\, ON\, P0A 1H0\, Canada
CATEGORIES:OLA,OLCCC
ORGANIZER;CN="OLCCC":MAILTO:drc@algonquinhighlands.ca
END:VEVENT
BEGIN:VEVENT
DTSTART;TZID=America/Toronto:20150805T190000
DTEND;TZID=America/Toronto:20150805T210000
DTSTAMP:20260423T105703
CREATED:20150525T180632Z
LAST-MODIFIED:20150709T015743Z
UID:14708-1438801200-1438808400@www.oxtonguelake.ca
SUMMARY:Speaker Series - Craig Macdonald (Fire Towers)
DESCRIPTION:OLCCC Speaker Series \nSpeaker: Craig Macdonald \nTopic: Fire Towers \nJust show up!  But if you already know you plan to come\, please RSVP below.
URL:https://www.oxtonguelake.ca/event/speaker-series-craig-macdonald/
LOCATION:Oxtongue Lake Community Centre\, 3987 Highway 60\, Dwight\, ON\, P0A 1H0\, Canada
CATEGORIES:OLCCC
ORGANIZER;CN="OLCCC":MAILTO:drc@algonquinhighlands.ca
END:VEVENT
BEGIN:VEVENT
DTSTART;TZID=America/Toronto:20150801T090000
DTEND;TZID=America/Toronto:20150801T140000
DTSTAMP:20260423T105703
CREATED:20150520T231450Z
LAST-MODIFIED:20150525T182016Z
UID:14688-1438419600-1438437600@www.oxtonguelake.ca
SUMMARY:Community Garage Sale
DESCRIPTION:
URL:https://www.oxtonguelake.ca/event/community-garage-sale/
LOCATION:Oxtongue Lake Community Centre\, 3987 Highway 60\, Dwight\, ON\, P0A 1H0\, Canada
CATEGORIES:OLCCC
ORGANIZER;CN="OLCCC":MAILTO:drc@algonquinhighlands.ca
END:VEVENT
BEGIN:VEVENT
DTSTART;TZID=America/Toronto:20150729T190000
DTEND;TZID=America/Toronto:20150729T210000
DTSTAMP:20260423T105704
CREATED:20150525T181028Z
LAST-MODIFIED:20150525T181847Z
UID:14710-1438196400-1438203600@www.oxtonguelake.ca
SUMMARY:Movie Night - Annie
DESCRIPTION:OLCCC Movie Night \nMovie: Annie \nJust show up!  But if you already know you plan to come\, please RSVP below.
URL:https://www.oxtonguelake.ca/event/movie-night-annie/
LOCATION:Oxtongue Lake Community Centre\, 3987 Highway 60\, Dwight\, ON\, P0A 1H0\, Canada
CATEGORIES:OLCCC
ORGANIZER;CN="OLCCC":MAILTO:drc@algonquinhighlands.ca
END:VEVENT
BEGIN:VEVENT
DTSTART;TZID=America/Toronto:20150722T190000
DTEND;TZID=America/Toronto:20150722T210000
DTSTAMP:20260423T105704
CREATED:20150525T180454Z
LAST-MODIFIED:20150709T015712Z
UID:14707-1437591600-1437598800@www.oxtonguelake.ca
SUMMARY:Speaker Series - Greg Betteridge (Brook Trout)
DESCRIPTION:OLCCC Speaker Series \nSpeaker: Greg Betteridge \nTopic: Brook Trout \nJust show up!  But if you already know you plan to come\, please RSVP below.
URL:https://www.oxtonguelake.ca/event/speaker-series-greg-betteridge/
LOCATION:Oxtongue Lake Community Centre\, 3987 Highway 60\, Dwight\, ON\, P0A 1H0\, Canada
CATEGORIES:OLCCC
ORGANIZER;CN="OLCCC":MAILTO:drc@algonquinhighlands.ca
END:VEVENT
BEGIN:VEVENT
DTSTART;TZID=America/Toronto:20150715T190000
DTEND;TZID=America/Toronto:20150715T210000
DTSTAMP:20260423T105704
CREATED:20150525T180142Z
LAST-MODIFIED:20150709T015834Z
UID:14706-1436986800-1436994000@www.oxtonguelake.ca
SUMMARY:Speaker Series - Rick Stronks (Wolves)
DESCRIPTION:OLCCC Speaker Series \nSpeaker: Rick Stronks \nTopic: wolves \nJust show up!  But if you already know you plan to come\, please RSVP below.
URL:https://www.oxtonguelake.ca/event/speaker-series-rick-stronks/
LOCATION:Oxtongue Lake Community Centre\, 3987 Highway 60\, Dwight\, ON\, P0A 1H0\, Canada
CATEGORIES:OLCCC
ORGANIZER;CN="OLCCC":MAILTO:drc@algonquinhighlands.ca
END:VEVENT
BEGIN:VEVENT
DTSTART;TZID=America/Toronto:20150708T190000
DTEND;TZID=America/Toronto:20150708T210000
DTSTAMP:20260423T105704
CREATED:20150525T180039Z
LAST-MODIFIED:20150528T190025Z
UID:14705-1436382000-1436389200@www.oxtonguelake.ca
SUMMARY:Speaker Series - Dan Strickland
DESCRIPTION:OLCCC Speaker Series \nSpeaker: Dan Strickland \nTopic: Haida Gwaii \nJust show up!  But if you already know you plan to come\, please RSVP below.
URL:https://www.oxtonguelake.ca/event/speaker-series-dan-strickland/
LOCATION:Oxtongue Lake Community Centre\, 3987 Highway 60\, Dwight\, ON\, P0A 1H0\, Canada
CATEGORIES:OLCCC
ORGANIZER;CN="OLCCC":MAILTO:drc@algonquinhighlands.ca
END:VEVENT
BEGIN:VEVENT
DTSTART;TZID=America/Toronto:20150701T110000
DTEND;TZID=America/Toronto:20150701T140000
DTSTAMP:20260423T105704
CREATED:20150301T130104Z
LAST-MODIFIED:20150627T201716Z
UID:13281-1435748400-1435759200@www.oxtonguelake.ca
SUMMARY:Canada Day Celebration
DESCRIPTION: 
URL:https://www.oxtonguelake.ca/event/canada-day-celebration/
LOCATION:Oxtongue Lake Community Centre\, 3987 Highway 60\, Dwight\, ON\, P0A 1H0\, Canada
CATEGORIES:OLCCC
ATTACH;FMTTYPE=image/jpeg:https://www.oxtonguelake.ca/wp-content/uploads/2015/03/2015-Canada-Day-and-Summer-Program-at-OLCC_Page_11.jpg
END:VEVENT
END:VCALENDAR