BEGIN:VCALENDAR
VERSION:2.0
PRODID:-//Oxtongue Lake - ECPv6.14.2//NONSGML v1.0//EN
CALSCALE:GREGORIAN
METHOD:PUBLISH
X-WR-CALNAME:Oxtongue Lake
X-ORIGINAL-URL:https://www.oxtonguelake.ca
X-WR-CALDESC:Events for Oxtongue Lake
REFRESH-INTERVAL;VALUE=DURATION:PT1H
X-Robots-Tag:noindex
X-PUBLISHED-TTL:PT1H
BEGIN:VTIMEZONE
TZID:America/Toronto
BEGIN:DAYLIGHT
TZOFFSETFROM:-0500
TZOFFSETTO:-0400
TZNAME:EDT
DTSTART:20150308T070000
END:DAYLIGHT
BEGIN:STANDARD
TZOFFSETFROM:-0400
TZOFFSETTO:-0500
TZNAME:EST
DTSTART:20151101T060000
END:STANDARD
END:VTIMEZONE
BEGIN:VEVENT
DTSTART;VALUE=DATE:20150307
DTEND;VALUE=DATE:20150309
DTSTAMP:20260424T232313
CREATED:20150112T045454Z
LAST-MODIFIED:20150114T213404Z
UID:11631-1425693600-1425779999@www.oxtonguelake.ca
SUMMARY:ASC Pancake Breakfast & Fish Derby
DESCRIPTION:Fishing and pancakes on Oxtongue!  The ASC’s annual fishing derby is a fun filled day and you are encouraged to register early at LOBO’s General Store.  Start the day off right with a Breakfast at 7:30-10:30 at the Oxtongue Lake Community Centre and then continue with fishing on the lake.  Let’s see who can catch the biggest and most fish!
URL:https://www.oxtonguelake.ca/event/snowmobile-pancake-breakfast/
LOCATION:Oxtongue Lake Community Centre\, 3987 Highway 60\, Dwight\, ON\, P0A 1H0\, Canada
CATEGORIES:Algonquin Snowmobile Club
END:VEVENT
END:VCALENDAR